BEGIN:VCALENDAR
VERSION:2.0
PRODID:-//www.nrcrecycles.org//NONSGML kigkonsult.se iCalcreator 2.30.10//
CALSCALE:GREGORIAN
METHOD:PUBLISH
UID:ba600efe-fe8d-4c0e-88a5-fe1f58c42873
X-WR-CALDESC:The National Recycling Congress is scheduled for October 1\, 2
 \, and 3\, 2025 at Wichita State University in Wichita KS. This year’s Nat
 ional Recycling Congress will be hybrid to be as accessible as possible. F
 or those attending in person\, registration fees will include registration
 \, food\, and the reception.\n\nOur partnership and collaboration with the
  WSU Environmental Finance Center is incredible.  We are thrilled to bring
  the National Recycling Congress to the Heartland and to share all the goo
 d work happening in this part of our country.\n\nThe theme for this year’s
  National Recycling Congress is “Strategies for Circularity”. It will incl
 ude a number of special guest presentations\, learning sessions\, workshop
 s\, and CEUs. In addition\, we will host our annual reception\, awards\, s
 cholarship presentations\, vendor expo\, and tours. \n\n\n\n
X-WR-RELCALID:f20ccada6f252dcea6879afd9201155b
X-WR-TIMEZONE:America/Chicago
BEGIN:VTIMEZONE
TZID:America/Chicago
BEGIN:STANDARD
TZNAME:CST
DTSTART:20241103T020000
TZOFFSETFROM:-0500
TZOFFSETTO:-0600
RDATE:20251102T020000
RDATE:20261101T020000
END:STANDARD
BEGIN:DAYLIGHT
TZNAME:CDT
DTSTART:20250309T020000
TZOFFSETFROM:-0600
TZOFFSETTO:-0500
RDATE:20260308T020000
RDATE:20270314T020000
END:DAYLIGHT
END:VTIMEZONE
BEGIN:VEVENT
UID:b8932355-f5a6-4753-810c-1835ca646c7d
DTSTAMP:20260419T132241Z
DESCRIPTION:The National Recycling Congress is scheduled for October 1\, 2\
 , and 3\, 2025 at Wichita State University in Wichita KS. This year’s Nati
 onal Recycling Congress will be hybrid to be as accessible as possible. Fo
 r those attending in person\, registration fees will include registration\
 , food\, and the reception.\n\nOur partnership and collaboration with the 
 WSU Environmental Finance Center is incredible.  We are thrilled to bring 
 the National Recycling Congress to the Heartland and to share all the good
  work happening in this part of our country.\n\nThe theme for this year’s 
 National Recycling Congress is “Strategies for Circularity”. It will inclu
 de a number of special guest presentations\, learning sessions\, workshops
 \, and CEUs. In addition\, we will host our annual reception\, awards\, sc
 holarship presentations\, vendor expo\, and tours. \n\n\n\n
DTSTART;TZID=America/Chicago:20251001T160000
DTEND;TZID=America/Chicago:20251003T200000
LOCATION:1845 Fairmont Street\, Wichita\, KS 67260 US
SUMMARY:NRC National Recycling Congress 2025
END:VEVENT
END:VCALENDAR
